BEGIN:VCALENDAR
VERSION:2.0
PRODID:-//Corner 103 - ECPv6.15.20//NONSGML v1.0//EN
CALSCALE:GREGORIAN
METHOD:PUBLISH
X-ORIGINAL-URL:https://www.corner103.com
X-WR-CALDESC:Events for Corner 103
REFRESH-INTERVAL;VALUE=DURATION:PT1H
X-Robots-Tag:noindex
X-PUBLISHED-TTL:PT1H
BEGIN:VTIMEZONE
TZID:America/Vancouver
BEGIN:DAYLIGHT
TZOFFSETFROM:-0800
TZOFFSETTO:-0700
TZNAME:PDT
DTSTART:20250309T100000
END:DAYLIGHT
BEGIN:STANDARD
TZOFFSETFROM:-0700
TZOFFSETTO:-0800
TZNAME:PST
DTSTART:20251102T090000
END:STANDARD
BEGIN:DAYLIGHT
TZOFFSETFROM:-0800
TZOFFSETTO:-0700
TZNAME:PDT
DTSTART:20260308T100000
END:DAYLIGHT
BEGIN:STANDARD
TZOFFSETFROM:-0700
TZOFFSETTO:-0800
TZNAME:PST
DTSTART:20261101T090000
END:STANDARD
BEGIN:DAYLIGHT
TZOFFSETFROM:-0800
TZOFFSETTO:-0700
TZNAME:PDT
DTSTART:20270314T100000
END:DAYLIGHT
BEGIN:STANDARD
TZOFFSETFROM:-0700
TZOFFSETTO:-0800
TZNAME:PST
DTSTART:20271107T090000
END:STANDARD
END:VTIMEZONE
BEGIN:VEVENT
DTSTART;TZID=America/Vancouver:20260308T110000
DTEND;TZID=America/Vancouver:20260308T180000
DTSTAMP:20260423T024325
CREATED:20260105T200714Z
LAST-MODIFIED:20260105T200714Z
UID:1985-1772967600-1772992800@www.corner103.com
SUMMARY:Spring Release Party (Wine Society)
DESCRIPTION:Celebrate the arrival of spring with our Spring Release Party\, a complimentary Wine Club Pickup event exclusively for our 103 Club family. This seasonal gathering is the perfect opportunity to taste newly released wines\, pick up your allocation\, and reconnect with the Corner 103 team and fellow members in a relaxed\, welcoming atmosphere. \nGuests will enjoy complimentary tastings of our latest releases while spending time at the tasting room during one of our two pickup windows. Whether you’re stopping by to explore the wines in detail or simply to say hello and pick up your bottles\, this event is designed to be easy\, social\, and enjoyable. \nDate: \nMarch 8th\, 2026 \nLocation: \nCorner 103 Tasting Room \nEvent Time Slots:11:00 AM – 2:00 PM3:00 PM – 6:00 PM \nRSVP details will be emailed to Wine Club members closer to the event. We look forward to celebrating with you.
URL:https://www.corner103.com/event/spring-release-party-wine-society/
LOCATION:Corner 103 Tasting Room\, 103 W. Napa Street\, Sonoma\, CA\, 95476\, United States
ATTACH;FMTTYPE=image/png:https://www.corner103.com/wp-content/uploads/2026/01/9a920008-02fd-431d-90b5-0b57d7324a91-e1767643509575.png
ORGANIZER;CN="Corner 103":MAILTO:info@corner103.com
END:VEVENT
END:VCALENDAR