BEGIN:VCALENDAR
VERSION:2.0
PRODID:-//Corner 103 - ECPv6.15.20//NONSGML v1.0//EN
CALSCALE:GREGORIAN
METHOD:PUBLISH
X-ORIGINAL-URL:https://www.corner103.com
X-WR-CALDESC:Events for Corner 103
REFRESH-INTERVAL;VALUE=DURATION:PT1H
X-Robots-Tag:noindex
X-PUBLISHED-TTL:PT1H
BEGIN:VTIMEZONE
TZID:America/Vancouver
BEGIN:DAYLIGHT
TZOFFSETFROM:-0800
TZOFFSETTO:-0700
TZNAME:PDT
DTSTART:20250309T100000
END:DAYLIGHT
BEGIN:STANDARD
TZOFFSETFROM:-0700
TZOFFSETTO:-0800
TZNAME:PST
DTSTART:20251102T090000
END:STANDARD
BEGIN:DAYLIGHT
TZOFFSETFROM:-0800
TZOFFSETTO:-0700
TZNAME:PDT
DTSTART:20260308T100000
END:DAYLIGHT
BEGIN:STANDARD
TZOFFSETFROM:-0700
TZOFFSETTO:-0800
TZNAME:PST
DTSTART:20261101T090000
END:STANDARD
BEGIN:DAYLIGHT
TZOFFSETFROM:-0800
TZOFFSETTO:-0700
TZNAME:PDT
DTSTART:20270314T100000
END:DAYLIGHT
BEGIN:STANDARD
TZOFFSETFROM:-0700
TZOFFSETTO:-0800
TZNAME:PST
DTSTART:20271107T090000
END:STANDARD
END:VTIMEZONE
BEGIN:VEVENT
DTSTART;TZID=America/Vancouver:20260607T110000
DTEND;TZID=America/Vancouver:20260607T180000
DTSTAMP:20260421T113734
CREATED:20260105T201237Z
LAST-MODIFIED:20260105T210408Z
UID:1989-1780830000-1780855200@www.corner103.com
SUMMARY:Summer Release Party (Wine Society)
DESCRIPTION:Join us for our Summer Release Party\, a complimentary Wine Club Pickup event created exclusively for our 103 Club family. This relaxed seasonal celebration is all about enjoying new releases\, warm-weather wines\, and time spent with fellow members and the Corner 103 team. \nTaste through the latest wines\, pick up your allocation\, and enjoy the easygoing energy of summer in Sonoma. Whether you’re lingering with a glass or stopping in briefly\, this event offers a flexible and welcoming way to experience the new releases. \nDate: \nJune 7th\, 2026 \nLocation: \nCorner 103 Tasting Room \nEvent Time Slots:11:00 AM – 2:00 PM3:00 PM – 6:00 PM \nRSVP details will be emailed to Wine Club members closer to the event. We look forward to celebrating with you.
URL:https://www.corner103.com/event/summer-release-party-wine-society/
LOCATION:Corner 103 Tasting Room\, 103 W. Napa Street\, Sonoma\, CA\, 95476\, United States
ATTACH;FMTTYPE=image/png:https://www.corner103.com/wp-content/uploads/2026/01/9a920008-02fd-431d-90b5-0b57d7324a91-1-e1767643930722.png
ORGANIZER;CN="Corner 103":MAILTO:info@corner103.com
END:VEVENT
END:VCALENDAR