BEGIN:VCALENDAR
VERSION:2.0
PRODID:-//Corner 103 - ECPv6.15.20//NONSGML v1.0//EN
CALSCALE:GREGORIAN
METHOD:PUBLISH
X-ORIGINAL-URL:https://www.corner103.com
X-WR-CALDESC:Events for Corner 103
REFRESH-INTERVAL;VALUE=DURATION:PT1H
X-Robots-Tag:noindex
X-PUBLISHED-TTL:PT1H
BEGIN:VTIMEZONE
TZID:America/Vancouver
BEGIN:DAYLIGHT
TZOFFSETFROM:-0800
TZOFFSETTO:-0700
TZNAME:PDT
DTSTART:20250309T100000
END:DAYLIGHT
BEGIN:STANDARD
TZOFFSETFROM:-0700
TZOFFSETTO:-0800
TZNAME:PST
DTSTART:20251102T090000
END:STANDARD
BEGIN:DAYLIGHT
TZOFFSETFROM:-0800
TZOFFSETTO:-0700
TZNAME:PDT
DTSTART:20260308T100000
END:DAYLIGHT
BEGIN:STANDARD
TZOFFSETFROM:-0700
TZOFFSETTO:-0800
TZNAME:PST
DTSTART:20261101T090000
END:STANDARD
BEGIN:DAYLIGHT
TZOFFSETFROM:-0800
TZOFFSETTO:-0700
TZNAME:PDT
DTSTART:20270314T100000
END:DAYLIGHT
BEGIN:STANDARD
TZOFFSETFROM:-0700
TZOFFSETTO:-0800
TZNAME:PST
DTSTART:20271107T090000
END:STANDARD
END:VTIMEZONE
BEGIN:VEVENT
DTSTART;TZID=America/Vancouver:20260719T120000
DTEND;TZID=America/Vancouver:20260719T150000
DTSTAMP:20260420T043535
CREATED:20250619T222823Z
LAST-MODIFIED:20260105T203822Z
UID:1714-1784462400-1784473200@www.corner103.com
SUMMARY:2026 Bacon Lover's Lunch
DESCRIPTION:Experience our fan-favorite Bacon Lunch\, a bold five-course celebration exploring bacon in classic and unexpected ways\, expertly paired with Corner 103 award-winning wines for pure indulgence and unforgettable flavor moments. \n This thoughtfully curated five-course lunch puts bacon front and center\, exploring its savory depth in both classic and unexpected ways. Each course delivers rich\, crave-worthy flavors\, perfectly paired with Corner 103’s award-winning wines to create a powerful and memorable dining experience. \nDate: Sunday\, July 19Time: 12:00 PM – 3:00 PMLocation: Suite D\, Sonoma \nMenu: \nComing Soon!! \nPurchase Tickets Here: Bacon Lover’s Lunch
URL:https://www.corner103.com/event/bacon-lover-s-lunch-2025/
LOCATION:Suite D by Girl & the Fig\, 21800 Schellville Road\, Sonoma\, CA\, 94576\, United States
CATEGORIES:Lunch Pairing
ATTACH;FMTTYPE=image/jpeg:https://www.corner103.com/wp-content/uploads/2024/07/james-trenda-IJIyIWZk-qg-unsplash.jpg
ORGANIZER;CN="Corner 103":MAILTO:info@corner103.com
END:VEVENT
END:VCALENDAR