BEGIN:VCALENDAR
VERSION:2.0
PRODID:-//Corner 103 - ECPv6.15.20//NONSGML v1.0//EN
CALSCALE:GREGORIAN
METHOD:PUBLISH
X-ORIGINAL-URL:https://www.corner103.com
X-WR-CALDESC:Events for Corner 103
REFRESH-INTERVAL;VALUE=DURATION:PT1H
X-Robots-Tag:noindex
X-PUBLISHED-TTL:PT1H
BEGIN:VTIMEZONE
TZID:America/Vancouver
BEGIN:DAYLIGHT
TZOFFSETFROM:-0800
TZOFFSETTO:-0700
TZNAME:PDT
DTSTART:20250309T100000
END:DAYLIGHT
BEGIN:STANDARD
TZOFFSETFROM:-0700
TZOFFSETTO:-0800
TZNAME:PST
DTSTART:20251102T090000
END:STANDARD
BEGIN:DAYLIGHT
TZOFFSETFROM:-0800
TZOFFSETTO:-0700
TZNAME:PDT
DTSTART:20260308T100000
END:DAYLIGHT
BEGIN:STANDARD
TZOFFSETFROM:-0700
TZOFFSETTO:-0800
TZNAME:PST
DTSTART:20261101T090000
END:STANDARD
BEGIN:DAYLIGHT
TZOFFSETFROM:-0800
TZOFFSETTO:-0700
TZNAME:PDT
DTSTART:20270314T100000
END:DAYLIGHT
BEGIN:STANDARD
TZOFFSETFROM:-0700
TZOFFSETTO:-0800
TZNAME:PST
DTSTART:20271107T090000
END:STANDARD
END:VTIMEZONE
BEGIN:VEVENT
DTSTART;TZID=America/Vancouver:20260920T110000
DTEND;TZID=America/Vancouver:20260920T150000
DTSTAMP:20260422T114129
CREATED:20240814T212603Z
LAST-MODIFIED:20260105T211535Z
UID:1724-1789902000-1789916400@www.corner103.com
SUMMARY:2026 Harvest Lunch
DESCRIPTION:Join us for our Harvest Lunch\, an intimate five-course afternoon celebrating seasonal flavors\, Sonoma’s bounty\, and Corner 103 award-winning wines in a warm\, expressive harvest setting with friends and family. \nOur Harvest Lunch captures the heart of harvest season in Sonoma Valley. This thoughtfully curated five-course lunch highlights the richness of the land and the flavors of the season\, showcasing peak ingredients at their finest. Each course is paired with Corner 103’s award-winning wines\, creating a warm\, expressive experience that reflects the depth and beauty of harvest. \nDate: Sunday\, September 20 \nTime: 12:00 – 3:00pmLocation: Suite D\, Sonoma \n\nMenu & Wine Pairings\nComing Soon!! \nPurchase Tickets Here: harvest lunch
URL:https://www.corner103.com/event/harvest-dinner/
LOCATION:Suite D by Girl & the Fig\, 21800 Schellville Road\, Sonoma\, CA\, 94576\, United States
CATEGORIES:Lunch Pairing
ATTACH;FMTTYPE=image/jpeg:https://www.corner103.com/wp-content/uploads/2024/08/20240811_120529-scaled.jpg
ORGANIZER;CN="Corner 103":MAILTO:info@corner103.com
END:VEVENT
END:VCALENDAR