BEGIN:VCALENDAR
VERSION:2.0
PRODID:-//Corner 103 - ECPv6.15.20//NONSGML v1.0//EN
CALSCALE:GREGORIAN
METHOD:PUBLISH
X-WR-CALNAME:Corner 103
X-ORIGINAL-URL:https://www.corner103.com
X-WR-CALDESC:Events for Corner 103
REFRESH-INTERVAL;VALUE=DURATION:PT1H
X-Robots-Tag:noindex
X-PUBLISHED-TTL:PT1H
BEGIN:VTIMEZONE
TZID:America/Vancouver
BEGIN:DAYLIGHT
TZOFFSETFROM:-0800
TZOFFSETTO:-0700
TZNAME:PDT
DTSTART:20190310T100000
END:DAYLIGHT
BEGIN:STANDARD
TZOFFSETFROM:-0700
TZOFFSETTO:-0800
TZNAME:PST
DTSTART:20191103T090000
END:STANDARD
BEGIN:DAYLIGHT
TZOFFSETFROM:-0800
TZOFFSETTO:-0700
TZNAME:PDT
DTSTART:20200308T100000
END:DAYLIGHT
BEGIN:STANDARD
TZOFFSETFROM:-0700
TZOFFSETTO:-0800
TZNAME:PST
DTSTART:20201101T090000
END:STANDARD
BEGIN:DAYLIGHT
TZOFFSETFROM:-0800
TZOFFSETTO:-0700
TZNAME:PDT
DTSTART:20210314T100000
END:DAYLIGHT
BEGIN:STANDARD
TZOFFSETFROM:-0700
TZOFFSETTO:-0800
TZNAME:PST
DTSTART:20211107T090000
END:STANDARD
END:VTIMEZONE
BEGIN:VEVENT
DTSTART;TZID=America/Vancouver:20200308T110000
DTEND;TZID=America/Vancouver:20200308T140000
DTSTAMP:20260421T155344
CREATED:20200221T064627Z
LAST-MODIFIED:20200221T064627Z
UID:1281-1583665200-1583676000@www.corner103.com
SUMMARY:Spring Release Party
DESCRIPTION:The Spring Release Party is a special gathering for the Corner 103 Wine Society to try our newly released wines. Taste wines with local culinary bites while mixing and mingling with fellow Wine Society members. This event is free for Wine Society members.
URL:https://www.corner103.com/event/spring-release-party/
LOCATION:Corner 103 Tasting Room\, 103 W. Napa Street\, Sonoma\, CA\, 95476\, United States
ORGANIZER;CN="Corner 103":MAILTO:info@corner103.com
END:VEVENT
END:VCALENDAR