BEGIN:VCALENDAR
VERSION:2.0
PRODID:-//Corner 103 - ECPv6.15.20//NONSGML v1.0//EN
CALSCALE:GREGORIAN
METHOD:PUBLISH
X-WR-CALNAME:Corner 103
X-ORIGINAL-URL:https://www.corner103.com
X-WR-CALDESC:Events for Corner 103
REFRESH-INTERVAL;VALUE=DURATION:PT1H
X-Robots-Tag:noindex
X-PUBLISHED-TTL:PT1H
BEGIN:VTIMEZONE
TZID:America/Vancouver
BEGIN:DAYLIGHT
TZOFFSETFROM:-0800
TZOFFSETTO:-0700
TZNAME:PDT
DTSTART:20220313T100000
END:DAYLIGHT
BEGIN:STANDARD
TZOFFSETFROM:-0700
TZOFFSETTO:-0800
TZNAME:PST
DTSTART:20221106T090000
END:STANDARD
BEGIN:DAYLIGHT
TZOFFSETFROM:-0800
TZOFFSETTO:-0700
TZNAME:PDT
DTSTART:20230312T100000
END:DAYLIGHT
BEGIN:STANDARD
TZOFFSETFROM:-0700
TZOFFSETTO:-0800
TZNAME:PST
DTSTART:20231105T090000
END:STANDARD
BEGIN:DAYLIGHT
TZOFFSETFROM:-0800
TZOFFSETTO:-0700
TZNAME:PDT
DTSTART:20240310T100000
END:DAYLIGHT
BEGIN:STANDARD
TZOFFSETFROM:-0700
TZOFFSETTO:-0800
TZNAME:PST
DTSTART:20241103T090000
END:STANDARD
END:VTIMEZONE
BEGIN:VEVENT
DTSTART;TZID=America/Vancouver:20230716T120000
DTEND;TZID=America/Vancouver:20230716T150000
DTSTAMP:20260421T031107
CREATED:20230522T212828Z
LAST-MODIFIED:20230617T235950Z
UID:1632-1689508800-1689519600@www.corner103.com
SUMMARY:Lobster Lunch - SOLD OUT
DESCRIPTION:We are excited to announce our amazing Lobster Lunch will be held on Sunday\, July 16th at noon! Once again\, the talented team at the Girl & the Fig’s Suite D will prepare a five-course lunch\, four of which will feature Lobster prepared in four different ways! Each course will be paired with Corner 103’s award-winning wines and will express the unique flavors of Lobster. This is an event not to be missed! \nMenu:\nFirst Course – Lobster Potstickers paired with Sparkling Rose\nSecond Course – Poached Lobster Salad paired with Marsanne Roussanne\nThird Course – Lobster Roll paired with Chardonnay\nFourth Course – Baked Lobster paired with Pinot Noir\nDessert – Meyer Lemon Cheesecake paired with Marsanne Roussanne \nThe cost of this amazing event is $150.00 for non-members and $120.00 for members. \nPurchase tickets here: Lobster Lunch \n  \n 
URL:https://www.corner103.com/event/lobster-lunch/
LOCATION:Suite D by Girl & the Fig\, 21800 Schellville Road\, Sonoma\, CA\, 94576\, United States
CATEGORIES:Lunch Pairing
ATTACH;FMTTYPE=image/png:https://www.corner103.com/wp-content/uploads/2023/05/lobster-hero-1686767385335.png
ORGANIZER;CN="Corner 103":MAILTO:info@corner103.com
END:VEVENT
END:VCALENDAR